BEGIN:VCALENDAR
VERSION:2.0
METHOD:PUBLISH
X-WR-CALNAME:Winnenden _2026-06-14
PRODID:-//www.se-winnenden.de//iCal
X-WR-CALDESC:Kindergottesdienst „Vom Vogel der Freude bringt - Pfingsten“
X-WR-TIMEZONE:Europe/Berlin
CALSCALE:GREGORIAN
BEGIN:VEVENT
UID:SEWSL-Winnenden -w15231418
DESCRIPTION:Kindergottesdienst „Vom Vogel der Freude bringt - Pfingsten“
SUMMARY:Kindergottesdienst „Vom Vogel der Freude bringt - Pfingsten“
DTSTART:20260614T103000
DTEND:20260614T113000
DTSTAMP:20260424T000000Z
LOCATION:Gemein&shyde&shy;saal 1+2+3+4 St. Karl Borromäus, Winnenden
TRANSP:TRANSPARENT
BEGIN:VALARM
TRIGGER:-PT0H30M
ACTION:DISPLAY
SUMMARY:Kindergottesdienst „Vom Vogel der Freude bringt - Pfingsten“
END:VALARM
END:VEVENT
END:VCALENDAR