BEGIN:VCALENDAR
VERSION:2.0
METHOD:PUBLISH
X-WR-CALNAME:Alle-Termine-Winnenden-Oktober-2026
PRODID:-//www.se-winnenden.de//iCal
X-WR-CALDESC:Alle Termine
X-WR-TIMEZONE:Europe/Berlin
CALSCALE:GREGORIAN
BEGIN:VEVENT
UID:SEWSL-Winnenden-w14622092
DESCRIPTION:Eucharistiefeier
SUMMARY:Eucharistiefeier
DTSTART:20261001T090000
DTEND:20261001T093000
DTSTAMP:20260422T000000Z
LOCATION:Kirche St. Karl Borromäus, Winnenden
TRANSP:TRANSPARENT
BEGIN:VALARM
TRIGGER:-PT0H30M
ACTION:DISPLAY
SUMMARY:Eucharistiefeier
END:VALARM
END:VEVENT
BEGIN:VEVENT
UID:SEWSL-Winnenden-w14639249
DESCRIPTION:Begegnungstreffen für ukrainische Flüchtlinge
SUMMARY:Begegnungstreffen für ukrainische Flüchtlinge
DTSTART:20261002T150000
DTEND:20261002T180000
DTSTAMP:20260422T000000Z
LOCATION:Gemein&shyde&shy;saal 2+3 St. Karl Borromäus, Winnenden
TRANSP:TRANSPARENT
BEGIN:VALARM
TRIGGER:-PT0H30M
ACTION:DISPLAY
SUMMARY:Begegnungstreffen für ukrainische Flüchtlinge
END:VALARM
END:VEVENT
BEGIN:VEVENT
UID:SEWSL-Winnenden-w15229707
DESCRIPTION:Eucharistiefeier
SUMMARY:Eucharistiefeier
DTSTART:20261003T170000
DTEND:20261003T180000
DTSTAMP:20260422T000000Z
LOCATION:Saal Maximilian-Kolbe-Haus Schelmenholz
TRANSP:TRANSPARENT
BEGIN:VALARM
TRIGGER:-PT0H30M
ACTION:DISPLAY
SUMMARY:Eucharistiefeier
END:VALARM
END:VEVENT
BEGIN:VEVENT
UID:SEWSL-Winnenden-w14641004
DESCRIPTION:Eucharistiefeier
SUMMARY:Eucharistiefeier
DTSTART:20261003T183000
DTEND:20261003T193000
DTSTAMP:20260422T000000Z
LOCATION:Saal und Kirche St. Maria Oppelsbohm
TRANSP:TRANSPARENT
BEGIN:VALARM
TRIGGER:-PT0H30M
ACTION:DISPLAY
SUMMARY:Eucharistiefeier
END:VALARM
END:VEVENT
BEGIN:VEVENT
UID:SEWSL-Winnenden-w14643361
DESCRIPTION:Wortgottesdienst
SUMMARY:Wortgottesdienst
DTSTART:20261004T103000
DTEND:20261004T113000
DTSTAMP:20260422T000000Z
LOCATION:Kirche St. Karl Borromäus, Winnenden
TRANSP:TRANSPARENT
BEGIN:VALARM
TRIGGER:-PT0H30M
ACTION:DISPLAY
SUMMARY:Wortgottesdienst
END:VALARM
END:VEVENT
BEGIN:VEVENT
UID:SEWSL-Winnenden-w15231455
DESCRIPTION:Kindergottesdienst
SUMMARY:Kindergottesdienst
DTSTART:20261004T103000
DTEND:20261004T113000
DTSTAMP:20260422T000000Z
LOCATION:Gemein&shyde&shy;saal 1+2+3+4 St. Karl Borromäus, Winnenden
TRANSP:TRANSPARENT
BEGIN:VALARM
TRIGGER:-PT0H30M
ACTION:DISPLAY
SUMMARY:Kindergottesdienst
END:VALARM
END:VEVENT
BEGIN:VEVENT
UID:SEWSL-Winnenden-s15049117
DESCRIPTION:Eucharistische Anbetung
SUMMARY:Eucharistische Anbetung
DTSTART:20261004T170000
DTEND:20261004T180000
DTSTAMP:20260422T000000Z
LOCATION:Kirche St. Maria, Schwaikheim
TRANSP:TRANSPARENT
BEGIN:VALARM
TRIGGER:-PT0H30M
ACTION:DISPLAY
SUMMARY:Eucharistische Anbetung
END:VALARM
END:VEVENT
BEGIN:VEVENT
UID:SEWSL-Winnenden-w14687122
DESCRIPTION:Trauercafé
SUMMARY:Trauercafé
DTSTART:20261005T143000
DTEND:20261005T170000
DTSTAMP:20260422T000000Z
LOCATION:Gemein&shyde&shy;saal 1 St. Karl Borromäus, Winnenden
TRANSP:TRANSPARENT
BEGIN:VALARM
TRIGGER:-PT0H30M
ACTION:DISPLAY
SUMMARY:Trauercafé
END:VALARM
END:VEVENT
BEGIN:VEVENT
UID:SEWSL-Winnenden-w15488491
DESCRIPTION:Verbum Dei - Bibel und Gebet
SUMMARY:Verbum Dei - Bibel und Gebet
DTSTART:20261006T190000
DTEND:20261006T200000
DTSTAMP:20260422T000000Z
LOCATION:Gemein&shyde&shy;saal 4 St. Karl Borromäus, Winnenden
TRANSP:TRANSPARENT
BEGIN:VALARM
TRIGGER:-PT0H30M
ACTION:DISPLAY
SUMMARY:Verbum Dei - Bibel und Gebet
END:VALARM
END:VEVENT
BEGIN:VEVENT
UID:SEWSL-Winnenden-w14657451
DESCRIPTION:Seniorengymnastik
SUMMARY:Seniorengymnastik
DTSTART:20261007T140000
DTEND:20261007T153000
DTSTAMP:20260422T000000Z
LOCATION:Gemein&shyde&shy;saal 2+3 St. Karl Borromäus, Winnenden
TRANSP:TRANSPARENT
BEGIN:VALARM
TRIGGER:-PT0H30M
ACTION:DISPLAY
SUMMARY:Seniorengymnastik
END:VALARM
END:VEVENT
BEGIN:VEVENT
UID:SEWSL-Winnenden-w14657449
DESCRIPTION:Rosenkranzgebet
SUMMARY:Rosenkranzgebet
DTSTART:20261007T180000
DTEND:20261007T190000
DTSTAMP:20260422T000000Z
LOCATION:Kirche St. Karl Borromäus, Winnenden
TRANSP:TRANSPARENT
BEGIN:VALARM
TRIGGER:-PT0H30M
ACTION:DISPLAY
SUMMARY:Rosenkranzgebet
END:VALARM
END:VEVENT
BEGIN:VEVENT
UID:SEWSL-Winnenden-w14664019
DESCRIPTION:Eucharistiefeier
SUMMARY:Eucharistiefeier
DTSTART:20261008T090000
DTEND:20261008T093000
DTSTAMP:20260422T000000Z
LOCATION:Kirche St. Karl Borromäus, Winnenden
TRANSP:TRANSPARENT
BEGIN:VALARM
TRIGGER:-PT0H30M
ACTION:DISPLAY
SUMMARY:Eucharistiefeier
END:VALARM
END:VEVENT
BEGIN:VEVENT
UID:SEWSL-Winnenden-w14673042
DESCRIPTION:Begegnungstreffen für ukrainische Flüchtlinge
SUMMARY:Begegnungstreffen für ukrainische Flüchtlinge
DTSTART:20261009T150000
DTEND:20261009T180000
DTSTAMP:20260422T000000Z
LOCATION:Gemein&shyde&shy;saal 2+3 St. Karl Borromäus, Winnenden
TRANSP:TRANSPARENT
BEGIN:VALARM
TRIGGER:-PT0H30M
ACTION:DISPLAY
SUMMARY:Begegnungstreffen für ukrainische Flüchtlinge
END:VALARM
END:VEVENT
BEGIN:VEVENT
UID:SEWSL-Winnenden-w15556808
DESCRIPTION:Firmvorbereitung I
SUMMARY:Firmvorbereitung I
DTSTART:20261010T093000
DTEND:20261010T123000
DTSTAMP:20260422T000000Z
LOCATION:Gemein&shyde&shy;saal 1+2+3+4 St. Karl Borromäus, Winnenden
TRANSP:TRANSPARENT
BEGIN:VALARM
TRIGGER:-PT0H30M
ACTION:DISPLAY
SUMMARY:Firmvorbereitung I
END:VALARM
END:VEVENT
BEGIN:VEVENT
UID:SEWSL-Winnenden-w14677240
DESCRIPTION:Wortgottesdienst
SUMMARY:Wortgottesdienst
DTSTART:20261010T170000
DTEND:20261010T180000
DTSTAMP:20260422T000000Z
LOCATION:Saal Maximilian-Kolbe-Haus Schelmenholz
TRANSP:TRANSPARENT
BEGIN:VALARM
TRIGGER:-PT0H30M
ACTION:DISPLAY
SUMMARY:Wortgottesdienst
END:VALARM
END:VEVENT
BEGIN:VEVENT
UID:SEWSL-Winnenden-w14677239
DESCRIPTION:Wortgottesdienst
SUMMARY:Wortgottesdienst
DTSTART:20261010T183000
DTEND:20261010T193000
DTSTAMP:20260422T000000Z
LOCATION:Saal und Kirche St. Maria Oppelsbohm
TRANSP:TRANSPARENT
BEGIN:VALARM
TRIGGER:-PT0H30M
ACTION:DISPLAY
SUMMARY:Wortgottesdienst
END:VALARM
END:VEVENT
BEGIN:VEVENT
UID:SEWSL-Winnenden-w15507829
DESCRIPTION:Andacht - Danket dem Herrn - mit anschl. Frühstück
SUMMARY:Andacht - Danket dem Herrn - mit anschl. Frühstück
DTSTART:20261011T090000
DTEND:20261011T100000
DTSTAMP:20260422T000000Z
LOCATION:ev. Jakobskirche Breuningsweiler
TRANSP:TRANSPARENT
BEGIN:VALARM
TRIGGER:-PT0H30M
ACTION:DISPLAY
SUMMARY:Andacht - Danket dem Herrn - mit anschl. Frühstück
END:VALARM
END:VEVENT
BEGIN:VEVENT
UID:SEWSL-Winnenden-w14679932
DESCRIPTION:Eucharistiefeier
SUMMARY:Eucharistiefeier
DTSTART:20261011T103000
DTEND:20261011T113000
DTSTAMP:20260422T000000Z
LOCATION:Kirche St. Karl Borromäus, Winnenden
TRANSP:TRANSPARENT
BEGIN:VALARM
TRIGGER:-PT0H30M
ACTION:DISPLAY
SUMMARY:Eucharistiefeier
END:VALARM
END:VEVENT
BEGIN:VEVENT
UID:SEWSL-Winnenden-w15585987
DESCRIPTION:Spielenachmittag
SUMMARY:Spielenachmittag
DTSTART:20261011T140000
DTEND:20261011T170000
DTSTAMP:20260422T000000Z
LOCATION:Saal und Kirche St. Maria Oppelsbohm
TRANSP:TRANSPARENT
BEGIN:VALARM
TRIGGER:-PT0H30M
ACTION:DISPLAY
SUMMARY:Spielenachmittag
END:VALARM
END:VEVENT
BEGIN:VEVENT
UID:SEWSL-Winnenden-w14730667
DESCRIPTION:Folkloretanz Fr. Sütterle-Matschenz
SUMMARY:Folkloretanz Fr. Sütterle-Matschenz
DTSTART:20261013T150000
DTEND:20261013T163000
DTSTAMP:20260422T000000Z
LOCATION:Gemein&shyde&shy;saal 2+3 St. Karl Borromäus, Winnenden
TRANSP:TRANSPARENT
BEGIN:VALARM
TRIGGER:-PT0H30M
ACTION:DISPLAY
SUMMARY:Folkloretanz Fr. Sütterle-Matschenz
END:VALARM
END:VEVENT
BEGIN:VEVENT
UID:SEWSL-Winnenden-w15249510
DESCRIPTION:Wortgottesdienst Haus im Schelmenholz
SUMMARY:Wortgottesdienst Haus im Schelmenholz
DTSTART:20261014T100000
DTEND:20261014T110000
DTSTAMP:20260422T000000Z
LOCATION:Haus im Schelmenholz
TRANSP:TRANSPARENT
BEGIN:VALARM
TRIGGER:-PT0H30M
ACTION:DISPLAY
SUMMARY:Wortgottesdienst Haus im Schelmenholz
END:VALARM
END:VEVENT
BEGIN:VEVENT
UID:SEWSL-Winnenden-w15249521
DESCRIPTION:Wortgottesdienst Wolfgang-Wanning-Stift
SUMMARY:Wortgottesdienst Wolfgang-Wanning-Stift
DTSTART:20261014T110000
DTEND:20261014T120000
DTSTAMP:20260422T000000Z
LOCATION:Wolfgang-Wanning-Stift, Winnenden
TRANSP:TRANSPARENT
BEGIN:VALARM
TRIGGER:-PT0H30M
ACTION:DISPLAY
SUMMARY:Wortgottesdienst Wolfgang-Wanning-Stift
END:VALARM
END:VEVENT
BEGIN:VEVENT
UID:SEWSL-Winnenden-w14698840
DESCRIPTION:Seniorengymnastik
SUMMARY:Seniorengymnastik
DTSTART:20261014T140000
DTEND:20261014T153000
DTSTAMP:20260422T000000Z
LOCATION:Gemein&shyde&shy;saal 2+3 St. Karl Borromäus, Winnenden
TRANSP:TRANSPARENT
BEGIN:VALARM
TRIGGER:-PT0H30M
ACTION:DISPLAY
SUMMARY:Seniorengymnastik
END:VALARM
END:VEVENT
BEGIN:VEVENT
UID:SEWSL-Winnenden-w14698838
DESCRIPTION:Rosenkranzgebet
SUMMARY:Rosenkranzgebet
DTSTART:20261014T180000
DTEND:20261014T190000
DTSTAMP:20260422T000000Z
LOCATION:Kirche St. Karl Borromäus, Winnenden
TRANSP:TRANSPARENT
BEGIN:VALARM
TRIGGER:-PT0H30M
ACTION:DISPLAY
SUMMARY:Rosenkranzgebet
END:VALARM
END:VEVENT
BEGIN:VEVENT
UID:SEWSL-Winnenden-w14705052
DESCRIPTION:Eucharistiefeier
SUMMARY:Eucharistiefeier
DTSTART:20261015T090000
DTEND:20261015T093000
DTSTAMP:20260422T000000Z
LOCATION:Kirche St. Karl Borromäus, Winnenden
TRANSP:TRANSPARENT
BEGIN:VALARM
TRIGGER:-PT0H30M
ACTION:DISPLAY
SUMMARY:Eucharistiefeier
END:VALARM
END:VEVENT
BEGIN:VEVENT
UID:SEWSL-Winnenden-w14711883
DESCRIPTION:Begegnungstreffen für ukrainische Flüchtlinge
SUMMARY:Begegnungstreffen für ukrainische Flüchtlinge
DTSTART:20261016T150000
DTEND:20261016T180000
DTSTAMP:20260422T000000Z
LOCATION:Gemein&shyde&shy;saal 2+3 St. Karl Borromäus, Winnenden
TRANSP:TRANSPARENT
BEGIN:VALARM
TRIGGER:-PT0H30M
ACTION:DISPLAY
SUMMARY:Begegnungstreffen für ukrainische Flüchtlinge
END:VALARM
END:VEVENT
BEGIN:VEVENT
UID:SEWSL-Winnenden-w14717613
DESCRIPTION:Eucharistiefeier
SUMMARY:Eucharistiefeier
DTSTART:20261017T170000
DTEND:20261017T180000
DTSTAMP:20260422T000000Z
LOCATION:Saal Maximilian-Kolbe-Haus Schelmenholz
TRANSP:TRANSPARENT
BEGIN:VALARM
TRIGGER:-PT0H30M
ACTION:DISPLAY
SUMMARY:Eucharistiefeier
END:VALARM
END:VEVENT
BEGIN:VEVENT
UID:SEWSL-Winnenden-w14717614
DESCRIPTION:Eucharistiefeier
SUMMARY:Eucharistiefeier
DTSTART:20261017T183000
DTEND:20261017T193000
DTSTAMP:20260422T000000Z
LOCATION:Saal und Kirche St. Maria Oppelsbohm
TRANSP:TRANSPARENT
BEGIN:VALARM
TRIGGER:-PT0H30M
ACTION:DISPLAY
SUMMARY:Eucharistiefeier
END:VALARM
END:VEVENT
BEGIN:VEVENT
UID:SEWSL-Winnenden-w14385797
DESCRIPTION:Familien-Wortgottesdienst "Kirche Kunterbunt"
SUMMARY:Familien-Wortgottesdienst "Kirche Kunterbunt"
DTSTART:20261018T103000
DTEND:20261018T140000
DTSTAMP:20260422T000000Z
LOCATION:evang. Mauritiuskirche Oppelsbohm
TRANSP:TRANSPARENT
BEGIN:VALARM
TRIGGER:-PT0H30M
ACTION:DISPLAY
SUMMARY:Familien-Wortgottesdienst "Kirche Kunterbunt"
END:VALARM
END:VEVENT
BEGIN:VEVENT
UID:SEWSL-Winnenden-w14720077
DESCRIPTION:Erntedankfest Indiensonntag Eucharistiefeier
SUMMARY:Erntedankfest Indiensonntag Eucharistiefeier
DTSTART:20261018T103000
DTEND:20261018T113000
DTSTAMP:20260422T000000Z
LOCATION:Kirche St. Karl Borromäus, Winnenden
TRANSP:TRANSPARENT
BEGIN:VALARM
TRIGGER:-PT0H30M
ACTION:DISPLAY
SUMMARY:Erntedankfest Indiensonntag Eucharistiefeier
END:VALARM
END:VEVENT
END:VCALENDAR