BEGIN:VCALENDAR
VERSION:2.0
METHOD:PUBLISH
X-WR-CALNAME:Alle-Termine-Winnenden-Mai-2026
PRODID:-//www.se-winnenden.de//iCal
X-WR-CALDESC:Alle Termine
X-WR-TIMEZONE:Europe/Berlin
CALSCALE:GREGORIAN
BEGIN:VEVENT
UID:SEWSL-Winnenden-w13972559
DESCRIPTION:KEIN - Begegnungstreffen für ukrainische Flüchtlinge
SUMMARY:KEIN - Begegnungstreffen für ukrainische Flüchtlinge
DTSTART:20260501T150000
DTEND:20260501T180000
DTSTAMP:20260422T000000Z
LOCATION:Gemein&shyde&shy;saal 2+3 St. Karl Borromäus, Winnenden
TRANSP:TRANSPARENT
BEGIN:VALARM
TRIGGER:-PT0H30M
ACTION:DISPLAY
SUMMARY:KEIN - Begegnungstreffen für ukrainische Flüchtlinge
END:VALARM
END:VEVENT
BEGIN:VEVENT
UID:SEWSL-Winnenden-w13977041
DESCRIPTION:Eucharistiefeier
SUMMARY:Eucharistiefeier
DTSTART:20260502T170000
DTEND:20260502T180000
DTSTAMP:20260422T000000Z
LOCATION:Saal Maximilian-Kolbe-Haus Schelmenholz
TRANSP:TRANSPARENT
BEGIN:VALARM
TRIGGER:-PT0H30M
ACTION:DISPLAY
SUMMARY:Eucharistiefeier
END:VALARM
END:VEVENT
BEGIN:VEVENT
UID:SEWSL-Winnenden-w13977042
DESCRIPTION:Eucharistiefeier
SUMMARY:Eucharistiefeier
DTSTART:20260502T183000
DTEND:20260502T193000
DTSTAMP:20260422T000000Z
LOCATION:Saal und Kirche St. Maria Oppelsbohm
TRANSP:TRANSPARENT
BEGIN:VALARM
TRIGGER:-PT0H30M
ACTION:DISPLAY
SUMMARY:Eucharistiefeier
END:VALARM
END:VEVENT
BEGIN:VEVENT
UID:SEWSL-Winnenden-w14413599
DESCRIPTION:Wortgottesdienst
SUMMARY:Wortgottesdienst
DTSTART:20260503T103000
DTEND:20260503T113000
DTSTAMP:20260422T000000Z
LOCATION:Kirche St. Karl Borromäus, Winnenden
TRANSP:TRANSPARENT
BEGIN:VALARM
TRIGGER:-PT0H30M
ACTION:DISPLAY
SUMMARY:Wortgottesdienst
END:VALARM
END:VEVENT
BEGIN:VEVENT
UID:SEWSL-Winnenden-s15049100
DESCRIPTION:Eucharistische Anbetung
SUMMARY:Eucharistische Anbetung
DTSTART:20260503T170000
DTEND:20260503T180000
DTSTAMP:20260422T000000Z
LOCATION:Kirche St. Maria, Schwaikheim
TRANSP:TRANSPARENT
BEGIN:VALARM
TRIGGER:-PT0H30M
ACTION:DISPLAY
SUMMARY:Eucharistische Anbetung
END:VALARM
END:VEVENT
BEGIN:VEVENT
UID:SEWSL-Winnenden-w14687052
DESCRIPTION:Trauercafé
SUMMARY:Trauercafé
DTSTART:20260504T143000
DTEND:20260504T170000
DTSTAMP:20260422T000000Z
LOCATION:Gemein&shyde&shy;saal 1 St. Karl Borromäus, Winnenden
TRANSP:TRANSPARENT
BEGIN:VALARM
TRIGGER:-PT0H30M
ACTION:DISPLAY
SUMMARY:Trauercafé
END:VALARM
END:VEVENT
BEGIN:VEVENT
UID:SEWSL-Winnenden-w15087770
DESCRIPTION:FrauenFeierAbend -  Park des Klinikums Schloss. Treffpunkt 19.00 Uhr unter dem Torbogen am Eingang.
SUMMARY:FrauenFeierAbend -  Park des Klinikums Schloss. Treffpunkt 19.00 Uhr unter dem Torbogen am Eingang.
DTSTART:20260504T190000
DTEND:20260504T210000
DTSTAMP:20260422T000000Z
LOCATION:Gemein&shyde&shy;saal 4 St. Karl Borromäus, Winnenden
TRANSP:TRANSPARENT
BEGIN:VALARM
TRIGGER:-PT0H30M
ACTION:DISPLAY
SUMMARY:FrauenFeierAbend -  Park des Klinikums Schloss. Treffpunkt 19.00 Uhr unter dem Torbogen am Eingang.
END:VALARM
END:VEVENT
BEGIN:VEVENT
UID:SEWSL-Winnenden-w14615978
DESCRIPTION:Suizid und Depression im Alter - Fortbildung mit Birgit Bronner
SUMMARY:Suizid und Depression im Alter - Fortbildung mit Birgit Bronner
DTSTART:20260505T090000
DTEND:20260505T130000
DTSTAMP:20260422T000000Z
LOCATION:Saal und Kirche St. Maria Oppelsbohm
TRANSP:TRANSPARENT
BEGIN:VALARM
TRIGGER:-PT0H30M
ACTION:DISPLAY
SUMMARY:Suizid und Depression im Alter - Fortbildung mit Birgit Bronner
END:VALARM
END:VEVENT
BEGIN:VEVENT
UID:SEWSL-Winnenden-w15488463
DESCRIPTION:Verbum Dei - Bibel und Gebet
SUMMARY:Verbum Dei - Bibel und Gebet
DTSTART:20260505T190000
DTEND:20260505T200000
DTSTAMP:20260422T000000Z
LOCATION:Gemein&shyde&shy;saal 4 St. Karl Borromäus, Winnenden
TRANSP:TRANSPARENT
BEGIN:VALARM
TRIGGER:-PT0H30M
ACTION:DISPLAY
SUMMARY:Verbum Dei - Bibel und Gebet
END:VALARM
END:VEVENT
BEGIN:VEVENT
UID:SEWSL-Winnenden-w15362962
DESCRIPTION:Wortgottesdienst Wolfgang-Wanning-Stift
SUMMARY:Wortgottesdienst Wolfgang-Wanning-Stift
DTSTART:20260506T110000
DTEND:20260506T120000
DTSTAMP:20260422T000000Z
LOCATION:Wolfgang-Wanning-Stift, Winnenden
TRANSP:TRANSPARENT
BEGIN:VALARM
TRIGGER:-PT0H30M
ACTION:DISPLAY
SUMMARY:Wortgottesdienst Wolfgang-Wanning-Stift
END:VALARM
END:VEVENT
BEGIN:VEVENT
UID:SEWSL-Winnenden-w13994242
DESCRIPTION:Seniorengymnastik
SUMMARY:Seniorengymnastik
DTSTART:20260506T140000
DTEND:20260506T153000
DTSTAMP:20260422T000000Z
LOCATION:Gemein&shyde&shy;saal 2+3 St. Karl Borromäus, Winnenden
TRANSP:TRANSPARENT
BEGIN:VALARM
TRIGGER:-PT0H30M
ACTION:DISPLAY
SUMMARY:Seniorengymnastik
END:VALARM
END:VEVENT
BEGIN:VEVENT
UID:SEWSL-Winnenden-w13994240
DESCRIPTION:Rosenkranzgebet
SUMMARY:Rosenkranzgebet
DTSTART:20260506T180000
DTEND:20260506T190000
DTSTAMP:20260422T000000Z
LOCATION:Kirche St. Karl Borromäus, Winnenden
TRANSP:TRANSPARENT
BEGIN:VALARM
TRIGGER:-PT0H30M
ACTION:DISPLAY
SUMMARY:Rosenkranzgebet
END:VALARM
END:VEVENT
BEGIN:VEVENT
UID:SEWSL-Winnenden-w13998132
DESCRIPTION:Eucharistiefeier
SUMMARY:Eucharistiefeier
DTSTART:20260507T090000
DTEND:20260507T093000
DTSTAMP:20260422T000000Z
LOCATION:Kirche St. Karl Borromäus, Winnenden
TRANSP:TRANSPARENT
BEGIN:VALARM
TRIGGER:-PT0H30M
ACTION:DISPLAY
SUMMARY:Eucharistiefeier
END:VALARM
END:VEVENT
BEGIN:VEVENT
UID:SEWSL-Winnenden-w14002255
DESCRIPTION:Begegnungstreffen für ukrainische Flüchtlinge
SUMMARY:Begegnungstreffen für ukrainische Flüchtlinge
DTSTART:20260508T150000
DTEND:20260508T180000
DTSTAMP:20260422T000000Z
LOCATION:Gemein&shyde&shy;saal 2+3 St. Karl Borromäus, Winnenden
TRANSP:TRANSPARENT
BEGIN:VALARM
TRIGGER:-PT0H30M
ACTION:DISPLAY
SUMMARY:Begegnungstreffen für ukrainische Flüchtlinge
END:VALARM
END:VEVENT
BEGIN:VEVENT
UID:SEWSL-Winnenden-w14963175
DESCRIPTION:Fußball - PlakatausstellungDer Eintritt ist frei, um eine Spende wird gebeten.  Der leidenschaftliche Autogrammsammler Klaus Münzenmaier stellt kurz vor der WM 2026 ca.150 signierte Plakate berühmter Fußballer (WM 1930 bis zur WM 2014) aus, die vielfältige Erinnerungen wecken und d
SUMMARY:Fußball - Plakatausstellung
DTSTART:20260509T140000
DTEND:20260509T170000
DTSTAMP:20260422T000000Z
LOCATION:Gemein&shyde&shy;saal 1+2+3+4 St. Karl Borromäus, Winnenden
TRANSP:TRANSPARENT
BEGIN:VALARM
TRIGGER:-PT0H30M
ACTION:DISPLAY
SUMMARY:Fußball - Plakatausstellung
END:VALARM
END:VEVENT
BEGIN:VEVENT
UID:SEWSL-Winnenden-w14007903
DESCRIPTION:Eucharistiefeier
SUMMARY:Eucharistiefeier
DTSTART:20260509T170000
DTEND:20260509T180000
DTSTAMP:20260422T000000Z
LOCATION:Saal Maximilian-Kolbe-Haus Schelmenholz
TRANSP:TRANSPARENT
BEGIN:VALARM
TRIGGER:-PT0H30M
ACTION:DISPLAY
SUMMARY:Eucharistiefeier
END:VALARM
END:VEVENT
BEGIN:VEVENT
UID:SEWSL-Winnenden-w14007902
DESCRIPTION:Eucharistiefeier
SUMMARY:Eucharistiefeier
DTSTART:20260509T183000
DTEND:20260509T193000
DTSTAMP:20260422T000000Z
LOCATION:Saal und Kirche St. Maria Oppelsbohm
TRANSP:TRANSPARENT
BEGIN:VALARM
TRIGGER:-PT0H30M
ACTION:DISPLAY
SUMMARY:Eucharistiefeier
END:VALARM
END:VEVENT
BEGIN:VEVENT
UID:SEWSL-Winnenden-w15507718
DESCRIPTION:Andacht - Impuls zum Muttertag mit anschl. Frühstück
SUMMARY:Andacht - Impuls zum Muttertag mit anschl. Frühstück
DTSTART:20260510T090000
DTEND:20260510T100000
DTSTAMP:20260422T000000Z
LOCATION:ev. Jakobskirche Breuningsweiler
TRANSP:TRANSPARENT
BEGIN:VALARM
TRIGGER:-PT0H30M
ACTION:DISPLAY
SUMMARY:Andacht - Impuls zum Muttertag mit anschl. Frühstück
END:VALARM
END:VEVENT
BEGIN:VEVENT
UID:SEWSL-Winnenden-w14413223
DESCRIPTION:Eucharistiefeier
SUMMARY:Eucharistiefeier
DTSTART:20260510T103000
DTEND:20260510T113000
DTSTAMP:20260422T000000Z
LOCATION:Kirche St. Karl Borromäus, Winnenden
TRANSP:TRANSPARENT
BEGIN:VALARM
TRIGGER:-PT0H30M
ACTION:DISPLAY
SUMMARY:Eucharistiefeier
END:VALARM
END:VEVENT
BEGIN:VEVENT
UID:SEWSL-Winnenden-w15641017
DESCRIPTION:Kindergottesdienst "Muttertag"(Familiengottesdienst)
SUMMARY:Kindergottesdienst "Muttertag"
DTSTART:20260510T103000
DTEND:20260510T113000
DTSTAMP:20260422T000000Z
LOCATION:Gemein&shyde&shy;saal 4 St. Karl Borromäus, Winnenden
TRANSP:TRANSPARENT
BEGIN:VALARM
TRIGGER:-PT0H30M
ACTION:DISPLAY
SUMMARY:Kindergottesdienst "Muttertag"
END:VALARM
END:VEVENT
BEGIN:VEVENT
UID:SEWSL-Winnenden-w14413223
DESCRIPTION:Eucharistiefeier
SUMMARY:Eucharistiefeier
DTSTART:20260510T103000
DTEND:20260510T113000
DTSTAMP:20260422T000000Z
LOCATION:Kirche St. Karl Borromäus, Winnenden
TRANSP:TRANSPARENT
BEGIN:VALARM
TRIGGER:-PT0H30M
ACTION:DISPLAY
SUMMARY:Eucharistiefeier
END:VALARM
END:VEVENT
BEGIN:VEVENT
UID:SEWSL-Winnenden-w15641017
DESCRIPTION:Kindergottesdienst "Muttertag"(Familiengottesdienst)
SUMMARY:Kindergottesdienst "Muttertag"
DTSTART:20260510T103000
DTEND:20260510T113000
DTSTAMP:20260422T000000Z
LOCATION:Gemein&shyde&shy;saal 4 St. Karl Borromäus, Winnenden
TRANSP:TRANSPARENT
BEGIN:VALARM
TRIGGER:-PT0H30M
ACTION:DISPLAY
SUMMARY:Kindergottesdienst "Muttertag"
END:VALARM
END:VEVENT
BEGIN:VEVENT
UID:SEWSL-Winnenden-w14963178
DESCRIPTION:Fußball - PlakatausstellungDer Eintritt ist frei, um eine Spende wird gebeten. Am Muttertag gibt es für alle Mütter ein kleines Präsent.  Der leidenschaftliche Autogrammsammler Klaus Münzenmaier stellt kurz vor der WM 2026 ca.150 signierte Plakate berühmter Fußballer (WM 1930 bis z
SUMMARY:Fußball - Plakatausstellung
DTSTART:20260510T113000
DTEND:20260510T170000
DTSTAMP:20260422T000000Z
LOCATION:Gemein&shyde&shy;saal 1+2+3+4 St. Karl Borromäus, Winnenden
TRANSP:TRANSPARENT
BEGIN:VALARM
TRIGGER:-PT0H30M
ACTION:DISPLAY
SUMMARY:Fußball - Plakatausstellung
END:VALARM
END:VEVENT
BEGIN:VEVENT
UID:SEWSL-Winnenden-w14730611
DESCRIPTION:Folkloretanz Fr. Sütterle-Matschenz
SUMMARY:Folkloretanz Fr. Sütterle-Matschenz
DTSTART:20260512T150000
DTEND:20260512T163000
DTSTAMP:20260422T000000Z
LOCATION:Gemein&shyde&shy;saal 2+3 St. Karl Borromäus, Winnenden
TRANSP:TRANSPARENT
BEGIN:VALARM
TRIGGER:-PT0H30M
ACTION:DISPLAY
SUMMARY:Folkloretanz Fr. Sütterle-Matschenz
END:VALARM
END:VEVENT
BEGIN:VEVENT
UID:SEWSL-Winnenden-w15084294
DESCRIPTION:Maiandacht
SUMMARY:Maiandacht
DTSTART:20260512T190000
DTEND:20260512T200000
DTSTAMP:20260422T000000Z
LOCATION:Kirche St. Karl Borromäus, Winnenden
TRANSP:TRANSPARENT
BEGIN:VALARM
TRIGGER:-PT0H30M
ACTION:DISPLAY
SUMMARY:Maiandacht
END:VALARM
END:VEVENT
BEGIN:VEVENT
UID:SEWSL-Winnenden-w14022549
DESCRIPTION:Seniorengymnastik
SUMMARY:Seniorengymnastik
DTSTART:20260513T140000
DTEND:20260513T153000
DTSTAMP:20260422T000000Z
LOCATION:Gemein&shyde&shy;saal 2+3 St. Karl Borromäus, Winnenden
TRANSP:TRANSPARENT
BEGIN:VALARM
TRIGGER:-PT0H30M
ACTION:DISPLAY
SUMMARY:Seniorengymnastik
END:VALARM
END:VEVENT
BEGIN:VEVENT
UID:SEWSL-Winnenden-w14022547
DESCRIPTION:Rosenkranzgebet
SUMMARY:Rosenkranzgebet
DTSTART:20260513T180000
DTEND:20260513T190000
DTSTAMP:20260422T000000Z
LOCATION:Kirche St. Karl Borromäus, Winnenden
TRANSP:TRANSPARENT
BEGIN:VALARM
TRIGGER:-PT0H30M
ACTION:DISPLAY
SUMMARY:Rosenkranzgebet
END:VALARM
END:VEVENT
BEGIN:VEVENT
UID:SEWSL-Winnenden-w14980222
DESCRIPTION:Christi Himmelfahrt Gottesdienst im Freien, mit Bewirtung
SUMMARY:Christi Himmelfahrt Gottesdienst im Freien, mit Bewirtung
DTSTART:20260514T100000
DTEND:20260514T110000
DTSTAMP:20260422T000000Z
LOCATION:Terrasse St. Maria Oppelsbohm
TRANSP:TRANSPARENT
BEGIN:VALARM
TRIGGER:-PT0H30M
ACTION:DISPLAY
SUMMARY:Christi Himmelfahrt Gottesdienst im Freien, mit Bewirtung
END:VALARM
END:VEVENT
BEGIN:VEVENT
UID:SEWSL-Winnenden-w14034643
DESCRIPTION:Begegnungstreffen für ukrainische Flüchtlinge
SUMMARY:Begegnungstreffen für ukrainische Flüchtlinge
DTSTART:20260515T150000
DTEND:20260515T180000
DTSTAMP:20260422T000000Z
LOCATION:Gemein&shyde&shy;saal 2+3 St. Karl Borromäus, Winnenden
TRANSP:TRANSPARENT
BEGIN:VALARM
TRIGGER:-PT0H30M
ACTION:DISPLAY
SUMMARY:Begegnungstreffen für ukrainische Flüchtlinge
END:VALARM
END:VEVENT
BEGIN:VEVENT
UID:SEWSL-Winnenden-w14038651
DESCRIPTION:Eucharistiefeier
SUMMARY:Eucharistiefeier
DTSTART:20260516T170000
DTEND:20260516T180000
DTSTAMP:20260422T000000Z
LOCATION:Saal Maximilian-Kolbe-Haus Schelmenholz
TRANSP:TRANSPARENT
BEGIN:VALARM
TRIGGER:-PT0H30M
ACTION:DISPLAY
SUMMARY:Eucharistiefeier
END:VALARM
END:VEVENT
BEGIN:VEVENT
UID:SEWSL-Winnenden-w14038652
DESCRIPTION:Eucharistiefeier
SUMMARY:Eucharistiefeier
DTSTART:20260516T183000
DTEND:20260516T193000
DTSTAMP:20260422T000000Z
LOCATION:Saal und Kirche St. Maria Oppelsbohm
TRANSP:TRANSPARENT
BEGIN:VALARM
TRIGGER:-PT0H30M
ACTION:DISPLAY
SUMMARY:Eucharistiefeier
END:VALARM
END:VEVENT
BEGIN:VEVENT
UID:SEWSL-Winnenden-w14413705
DESCRIPTION:Wortgottesdienst
SUMMARY:Wortgottesdienst
DTSTART:20260517T103000
DTEND:20260517T113000
DTSTAMP:20260422T000000Z
LOCATION:Kirche St. Karl Borromäus, Winnenden
TRANSP:TRANSPARENT
BEGIN:VALARM
TRIGGER:-PT0H30M
ACTION:DISPLAY
SUMMARY:Wortgottesdienst
END:VALARM
END:VEVENT
BEGIN:VEVENT
UID:SEWSL-Winnenden-w15576243
DESCRIPTION:Konzert camerata nova. Leitung Peter Kranefoed
SUMMARY:Konzert camerata nova. Leitung Peter Kranefoed
DTSTART:20260517T180000
DTEND:20260517T200000
DTSTAMP:20260422T000000Z
LOCATION:Kirche St. Karl Borromäus, Winnenden
TRANSP:TRANSPARENT
BEGIN:VALARM
TRIGGER:-PT0H30M
ACTION:DISPLAY
SUMMARY:Konzert camerata nova. Leitung Peter Kranefoed
END:VALARM
END:VEVENT
BEGIN:VEVENT
UID:SEWSL-Winnenden-w15488465
DESCRIPTION:Verbum Dei - Bibel und Gebet
SUMMARY:Verbum Dei - Bibel und Gebet
DTSTART:20260519T190000
DTEND:20260519T200000
DTSTAMP:20260422T000000Z
LOCATION:Gemein&shyde&shy;saal 4 St. Karl Borromäus, Winnenden
TRANSP:TRANSPARENT
BEGIN:VALARM
TRIGGER:-PT0H30M
ACTION:DISPLAY
SUMMARY:Verbum Dei - Bibel und Gebet
END:VALARM
END:VEVENT
BEGIN:VEVENT
UID:SEWSL-Winnenden-w14053189
DESCRIPTION:Seniorengymnastik
SUMMARY:Seniorengymnastik
DTSTART:20260520T140000
DTEND:20260520T153000
DTSTAMP:20260422T000000Z
LOCATION:Gemein&shyde&shy;saal 2+3 St. Karl Borromäus, Winnenden
TRANSP:TRANSPARENT
BEGIN:VALARM
TRIGGER:-PT0H30M
ACTION:DISPLAY
SUMMARY:Seniorengymnastik
END:VALARM
END:VEVENT
BEGIN:VEVENT
UID:SEWSL-Winnenden-w14053187
DESCRIPTION:Rosenkranzgebet
SUMMARY:Rosenkranzgebet
DTSTART:20260520T180000
DTEND:20260520T190000
DTSTAMP:20260422T000000Z
LOCATION:Kirche St. Karl Borromäus, Winnenden
TRANSP:TRANSPARENT
BEGIN:VALARM
TRIGGER:-PT0H30M
ACTION:DISPLAY
SUMMARY:Rosenkranzgebet
END:VALARM
END:VEVENT
BEGIN:VEVENT
UID:SEWSL-Winnenden-w14493294
DESCRIPTION:Ökumene Berglen  Exkursion "Besuch der Stauferstadt Schwäbisch Gmünd mit den sehenswerten Kirchen"
SUMMARY:Ökumene Berglen  Exkursion "Besuch der Stauferstadt Schwäbisch Gmünd mit den sehenswerten Kirchen"
DTSTART:20260521T090000
DTEND:20260521T170000
DTSTAMP:20260422T000000Z
LOCATION:evang. Gemeindehaus Oppelsbohm (O)
TRANSP:TRANSPARENT
BEGIN:VALARM
TRIGGER:-PT0H30M
ACTION:DISPLAY
SUMMARY:Ökumene Berglen  Exkursion "Besuch der Stauferstadt Schwäbisch Gmünd mit den sehenswerten Kirchen"
END:VALARM
END:VEVENT
BEGIN:VEVENT
UID:SEWSL-Winnenden-w14057487
DESCRIPTION:Eucharistiefeier
SUMMARY:Eucharistiefeier
DTSTART:20260521T090000
DTEND:20260521T093000
DTSTAMP:20260422T000000Z
LOCATION:Kirche St. Karl Borromäus, Winnenden
TRANSP:TRANSPARENT
BEGIN:VALARM
TRIGGER:-PT0H30M
ACTION:DISPLAY
SUMMARY:Eucharistiefeier
END:VALARM
END:VEVENT
BEGIN:VEVENT
UID:SEWSL-Winnenden-w15525457
DESCRIPTION:AG-Digitalisierung im Seniorenrat Winnenden
SUMMARY:AG-Digitalisierung im Seniorenrat Winnenden
DTSTART:20260521T130000
DTEND:20260521T150000
DTSTAMP:20260422T000000Z
LOCATION:Gemein&shyde&shy;saal 4 St. Karl Borromäus, Winnenden
TRANSP:TRANSPARENT
BEGIN:VALARM
TRIGGER:-PT0H30M
ACTION:DISPLAY
SUMMARY:AG-Digitalisierung im Seniorenrat Winnenden
END:VALARM
END:VEVENT
BEGIN:VEVENT
UID:SEWSL-Winnenden-w14722916
DESCRIPTION:Pfingst-Empfang 2026 "Engagierte Menschen als Hoffnungsträger"
SUMMARY:Pfingst-Empfang 2026 "Engagierte Menschen als Hoffnungsträger"
DTSTART:20260521T180000
DTEND:20260521T210000
DTSTAMP:20260422T000000Z
LOCATION:Kirche St. Karl Borromäus, Winnenden
TRANSP:TRANSPARENT
BEGIN:VALARM
TRIGGER:-PT0H30M
ACTION:DISPLAY
SUMMARY:Pfingst-Empfang 2026 "Engagierte Menschen als Hoffnungsträger"
END:VALARM
END:VEVENT
BEGIN:VEVENT
UID:SEWSL-Winnenden-w14061276
DESCRIPTION:Begegnungstreffen für ukrainische Flüchtlinge
SUMMARY:Begegnungstreffen für ukrainische Flüchtlinge
DTSTART:20260522T150000
DTEND:20260522T180000
DTSTAMP:20260422T000000Z
LOCATION:Gemein&shyde&shy;saal 2+3 St. Karl Borromäus, Winnenden
TRANSP:TRANSPARENT
BEGIN:VALARM
TRIGGER:-PT0H30M
ACTION:DISPLAY
SUMMARY:Begegnungstreffen für ukrainische Flüchtlinge
END:VALARM
END:VEVENT
BEGIN:VEVENT
UID:SEWSL-Winnenden-w15329198
DESCRIPTION:Beichtgelegenheit
SUMMARY:Beichtgelegenheit
DTSTART:20260523T160000
DTEND:20260523T170000
DTSTAMP:20260422T000000Z
LOCATION:Kirche St. Karl Borromäus, Winnenden
TRANSP:TRANSPARENT
BEGIN:VALARM
TRIGGER:-PT0H30M
ACTION:DISPLAY
SUMMARY:Beichtgelegenheit
END:VALARM
END:VEVENT
BEGIN:VEVENT
UID:SEWSL-Winnenden-w14064771
DESCRIPTION:Wortgottesdienst
SUMMARY:Wortgottesdienst
DTSTART:20260523T170000
DTEND:20260523T180000
DTSTAMP:20260422T000000Z
LOCATION:Saal Maximilian-Kolbe-Haus Schelmenholz
TRANSP:TRANSPARENT
BEGIN:VALARM
TRIGGER:-PT0H30M
ACTION:DISPLAY
SUMMARY:Wortgottesdienst
END:VALARM
END:VEVENT
BEGIN:VEVENT
UID:SEWSL-Winnenden-w14064770
DESCRIPTION:Wortgottesdienst
SUMMARY:Wortgottesdienst
DTSTART:20260523T183000
DTEND:20260523T193000
DTSTAMP:20260422T000000Z
LOCATION:Saal und Kirche St. Maria Oppelsbohm
TRANSP:TRANSPARENT
BEGIN:VALARM
TRIGGER:-PT0H30M
ACTION:DISPLAY
SUMMARY:Wortgottesdienst
END:VALARM
END:VEVENT
BEGIN:VEVENT
UID:SEWSL-Winnenden-w14067657
DESCRIPTION:Eucharistiefeier
SUMMARY:Eucharistiefeier
DTSTART:20260524T103000
DTEND:20260524T113000
DTSTAMP:20260422T000000Z
LOCATION:Kirche St. Karl Borromäus, Winnenden
TRANSP:TRANSPARENT
BEGIN:VALARM
TRIGGER:-PT0H30M
ACTION:DISPLAY
SUMMARY:Eucharistiefeier
END:VALARM
END:VEVENT
BEGIN:VEVENT
UID:SEWSL-Winnenden-w14980858
DESCRIPTION:Eucharistiefeier zum Pfingstmontag
SUMMARY:Eucharistiefeier zum Pfingstmontag
DTSTART:20260525T103000
DTEND:20260525T113000
DTSTAMP:20260422T000000Z
LOCATION:Kirche St. Karl Borromäus, Winnenden
TRANSP:TRANSPARENT
BEGIN:VALARM
TRIGGER:-PT0H30M
ACTION:DISPLAY
SUMMARY:Eucharistiefeier zum Pfingstmontag
END:VALARM
END:VEVENT
BEGIN:VEVENT
UID:SEWSL-Winnenden-w14730619
DESCRIPTION:Folkloretanz Fr. Sütterle-MatschenzAm 22.10. mit Hausmeistern besprochen, dass der Termin stattfinden kann, obwohl Ferien sind.
SUMMARY:Folkloretanz Fr. Sütterle-Matschenz
DTSTART:20260526T150000
DTEND:20260526T163000
DTSTAMP:20260422T000000Z
LOCATION:Gemein&shyde&shy;saal 2+3 St. Karl Borromäus, Winnenden
TRANSP:TRANSPARENT
BEGIN:VALARM
TRIGGER:-PT0H30M
ACTION:DISPLAY
SUMMARY:Folkloretanz Fr. Sütterle-Matschenz
END:VALARM
END:VEVENT
BEGIN:VEVENT
UID:SEWSL-Winnenden-w14078221
DESCRIPTION:Rosenkranzgebet
SUMMARY:Rosenkranzgebet
DTSTART:20260527T180000
DTEND:20260527T190000
DTSTAMP:20260422T000000Z
LOCATION:Kirche St. Karl Borromäus, Winnenden
TRANSP:TRANSPARENT
BEGIN:VALARM
TRIGGER:-PT0H30M
ACTION:DISPLAY
SUMMARY:Rosenkranzgebet
END:VALARM
END:VEVENT
BEGIN:VEVENT
UID:SEWSL-Winnenden-w14084440
DESCRIPTION:KEIN Begegnungstreffen für ukrainische Flüchtlinge- Pfingstferien 2 Wochen
SUMMARY:KEIN Begegnungstreffen für ukrainische Flüchtlinge- Pfingstferien 2 Wochen
DTSTART:20260529T150000
DTEND:20260529T180000
DTSTAMP:20260422T000000Z
LOCATION:Gemein&shyde&shy;saal 2+3 St. Karl Borromäus, Winnenden
TRANSP:TRANSPARENT
BEGIN:VALARM
TRIGGER:-PT0H30M
ACTION:DISPLAY
SUMMARY:KEIN Begegnungstreffen für ukrainische Flüchtlinge- Pfingstferien 2 Wochen
END:VALARM
END:VEVENT
BEGIN:VEVENT
UID:SEWSL-Winnenden-w14086782
DESCRIPTION:Wortgottesdienst
SUMMARY:Wortgottesdienst
DTSTART:20260530T170000
DTEND:20260530T180000
DTSTAMP:20260422T000000Z
LOCATION:Saal Maximilian-Kolbe-Haus Schelmenholz
TRANSP:TRANSPARENT
BEGIN:VALARM
TRIGGER:-PT0H30M
ACTION:DISPLAY
SUMMARY:Wortgottesdienst
END:VALARM
END:VEVENT
BEGIN:VEVENT
UID:SEWSL-Winnenden-w14086778
DESCRIPTION:Wortgottesdienst
SUMMARY:Wortgottesdienst
DTSTART:20260530T183000
DTEND:20260530T193000
DTSTAMP:20260422T000000Z
LOCATION:Saal und Kirche St. Maria Oppelsbohm
TRANSP:TRANSPARENT
BEGIN:VALARM
TRIGGER:-PT0H30M
ACTION:DISPLAY
SUMMARY:Wortgottesdienst
END:VALARM
END:VEVENT
BEGIN:VEVENT
UID:SEWSL-Winnenden-w14089312
DESCRIPTION:Wortgottesdienst
SUMMARY:Wortgottesdienst
DTSTART:20260531T103000
DTEND:20260531T113000
DTSTAMP:20260422T000000Z
LOCATION:Kirche St. Karl Borromäus, Winnenden
TRANSP:TRANSPARENT
BEGIN:VALARM
TRIGGER:-PT0H30M
ACTION:DISPLAY
SUMMARY:Wortgottesdienst
END:VALARM
END:VEVENT
BEGIN:VEVENT
UID:SEWSL-Winnenden-w15081300
DESCRIPTION:ökum. Taizégebet
SUMMARY:ökum. Taizégebet
DTSTART:20260531T180000
DTEND:20260531T190000
DTSTAMP:20260422T000000Z
LOCATION:ev. Stadtkirche St. Bernhard, Winnenden
TRANSP:TRANSPARENT
BEGIN:VALARM
TRIGGER:-PT0H30M
ACTION:DISPLAY
SUMMARY:ökum. Taizégebet
END:VALARM
END:VEVENT
END:VCALENDAR