BEGIN:VCALENDAR
VERSION:2.0
METHOD:PUBLISH
X-WR-CALNAME:Winnenden _2026-10-11
PRODID:-//www.se-winnenden.de//iCal
X-WR-CALDESC:Spielenachmittag
X-WR-TIMEZONE:Europe/Berlin
CALSCALE:GREGORIAN
BEGIN:VEVENT
UID:SEWSL-Winnenden -w15585987
DESCRIPTION:Spielenachmittag
SUMMARY:Spielenachmittag
DTSTART:20261011T140000
DTEND:20261011T170000
DTSTAMP:20260422T000000Z
LOCATION:Saal und Kirche St. Maria Oppelsbohm
TRANSP:TRANSPARENT
BEGIN:VALARM
TRIGGER:-PT0H30M
ACTION:DISPLAY
SUMMARY:Spielenachmittag
END:VALARM
END:VEVENT
END:VCALENDAR