BEGIN:VCALENDAR
VERSION:2.0
METHOD:PUBLISH
X-WR-CALNAME:Winnenden _2026-10-14
PRODID:-//www.se-winnenden.de//iCal
X-WR-CALDESC:Wortgottesdienst Haus im Schelmenholz
X-WR-TIMEZONE:Europe/Berlin
CALSCALE:GREGORIAN
BEGIN:VEVENT
UID:SEWSL-Winnenden -w15249510
DESCRIPTION:Wortgottesdienst Haus im Schelmenholz
SUMMARY:Wortgottesdienst Haus im Schelmenholz
DTSTART:20261014T100000
DTEND:20261014T110000
DTSTAMP:20260422T000000Z
LOCATION:Haus im Schelmenholz
TRANSP:TRANSPARENT
BEGIN:VALARM
TRIGGER:-PT0H30M
ACTION:DISPLAY
SUMMARY:Wortgottesdienst Haus im Schelmenholz
END:VALARM
END:VEVENT
END:VCALENDAR