BEGIN:VCALENDAR
VERSION:2.0
METHOD:PUBLISH
X-WR-CALNAME:Winnenden _2026-08-16
PRODID:-//www.se-winnenden.de//iCal
X-WR-CALDESC:ACK-Ökumenischer Gottesdienst im Stadtgarten. KEIN Gottesdienst in St. Karl Borromäus.
X-WR-TIMEZONE:Europe/Berlin
CALSCALE:GREGORIAN
BEGIN:VEVENT
UID:SEWSL-Winnenden -w14682361
DESCRIPTION:ACK-Ökumenischer Gottesdienst im Stadtgarten. KEIN Gottesdienst in St. Karl Borromäus.KEIN Gottesdienst in St. Karl Borromäus.
SUMMARY:ACK-Ökumenischer Gottesdienst im Stadtgarten. KEIN Gottesdienst in St. Karl Borromäus.
DTSTART:20260816T103000
DTEND:20260816T113000
DTSTAMP:20260422T000000Z
LOCATION:Stadtgarten Winnenden, Winnenden
TRANSP:TRANSPARENT
BEGIN:VALARM
TRIGGER:-PT0H30M
ACTION:DISPLAY
SUMMARY:ACK-Ökumenischer Gottesdienst im Stadtgarten. KEIN Gottesdienst in St. Karl Borromäus.
END:VALARM
END:VEVENT
END:VCALENDAR