BEGIN:VCALENDAR
VERSION:2.0
METHOD:PUBLISH
X-WR-CALNAME:Winnenden _2026-08-22
PRODID:-//www.se-winnenden.de//iCal
X-WR-CALDESC:Wortgottesdienst
X-WR-TIMEZONE:Europe/Berlin
CALSCALE:GREGORIAN
BEGIN:VEVENT
UID:SEWSL-Winnenden -w14438565
DESCRIPTION:Wortgottesdienst
SUMMARY:Wortgottesdienst
DTSTART:20260822T183000
DTEND:20260822T193000
DTSTAMP:20260422T000000Z
LOCATION:Saal und Kirche St. Maria Oppelsbohm
TRANSP:TRANSPARENT
BEGIN:VALARM
TRIGGER:-PT0H30M
ACTION:DISPLAY
SUMMARY:Wortgottesdienst
END:VALARM
END:VEVENT
END:VCALENDAR