BEGIN:VCALENDAR
VERSION:2.0
METHOD:PUBLISH
X-WR-CALNAME:Winnenden _2026-08-15
PRODID:-//www.se-winnenden.de//iCal
X-WR-CALDESC:Mariä Himmelfahrt - Eucharistiefeier mit Kräutersegnung
X-WR-TIMEZONE:Europe/Berlin
CALSCALE:GREGORIAN
BEGIN:VEVENT
UID:SEWSL-Winnenden -w14415440
DESCRIPTION:Mariä Himmelfahrt - Eucharistiefeier mit Kräutersegnung
SUMMARY:Mariä Himmelfahrt - Eucharistiefeier mit Kräutersegnung
DTSTART:20260815T183000
DTEND:20260815T193000
DTSTAMP:20260422T000000Z
LOCATION:Saal und Kirche St. Maria Oppelsbohm
TRANSP:TRANSPARENT
BEGIN:VALARM
TRIGGER:-PT0H30M
ACTION:DISPLAY
SUMMARY:Mariä Himmelfahrt - Eucharistiefeier mit Kräutersegnung
END:VALARM
END:VEVENT
END:VCALENDAR