BEGIN:VCALENDAR
VERSION:2.0
METHOD:PUBLISH
X-WR-CALNAME:Winnenden _2026-08-12
PRODID:-//www.se-winnenden.de//iCal
X-WR-CALDESC:Rosenkranzgebet
X-WR-TIMEZONE:Europe/Berlin
CALSCALE:GREGORIAN
BEGIN:VEVENT
UID:SEWSL-Winnenden -w14402689
DESCRIPTION:Rosenkranzgebet
SUMMARY:Rosenkranzgebet
DTSTART:20260812T180000
DTEND:20260812T190000
DTSTAMP:20260422T000000Z
LOCATION:Kirche St. Karl Borromäus, Winnenden
TRANSP:TRANSPARENT
BEGIN:VALARM
TRIGGER:-PT0H30M
ACTION:DISPLAY
SUMMARY:Rosenkranzgebet
END:VALARM
END:VEVENT
END:VCALENDAR